BEGIN:VCALENDAR
VERSION:2.0
PRODID:-//St. Louis Canoe &amp; Kayak Club - ECPv6.15.20//NONSGML v1.0//EN
CALSCALE:GREGORIAN
METHOD:PUBLISH
X-ORIGINAL-URL:https://stlcanoekayak.com
X-WR-CALDESC:Events for St. Louis Canoe &amp; Kayak Club
REFRESH-INTERVAL;VALUE=DURATION:PT1H
X-Robots-Tag:noindex
X-PUBLISHED-TTL:PT1H
BEGIN:VTIMEZONE
TZID:America/Chicago
BEGIN:DAYLIGHT
TZOFFSETFROM:-0600
TZOFFSETTO:-0500
TZNAME:CDT
DTSTART:20250309T080000
END:DAYLIGHT
BEGIN:STANDARD
TZOFFSETFROM:-0500
TZOFFSETTO:-0600
TZNAME:CST
DTSTART:20251102T070000
END:STANDARD
BEGIN:DAYLIGHT
TZOFFSETFROM:-0600
TZOFFSETTO:-0500
TZNAME:CDT
DTSTART:20260308T080000
END:DAYLIGHT
BEGIN:STANDARD
TZOFFSETFROM:-0500
TZOFFSETTO:-0600
TZNAME:CST
DTSTART:20261101T070000
END:STANDARD
BEGIN:DAYLIGHT
TZOFFSETFROM:-0600
TZOFFSETTO:-0500
TZNAME:CDT
DTSTART:20270314T080000
END:DAYLIGHT
BEGIN:STANDARD
TZOFFSETFROM:-0500
TZOFFSETTO:-0600
TZNAME:CST
DTSTART:20271107T070000
END:STANDARD
END:VTIMEZONE
BEGIN:VEVENT
DTSTART;TZID=America/Chicago:20260725T090000
DTEND;TZID=America/Chicago:20260725T180000
DTSTAMP:20260423T152949
CREATED:20260415T195240Z
LAST-MODIFIED:20260421T193710Z
UID:7640-1784970000-1785002400@stlcanoekayak.com
SUMMARY:Finger Lakes State Park Water Trail
DESCRIPTION:We will be doing a 1-day paddle on the beautiful Finger Lakes water trail\, which is all flat water. It is at least a 5-mile paddle\, but if some of us decide to go longer\, we can. This is an old Peabody Coal strip-mine. There are several good-sized ponds connected by numerous narrow channels. Rather unique place to paddle. Plentiful native flora and fauna. \nMeeting Location: We will meet at Finger Lakes State Park Boat Ramp parking lot at 9:00 am.  Take I-70 west to Columbia Mo. take exit 128A to Hwy 63 north\, go north ~ 10 miles to Peabody Rd. turn right\, go ~ 9/10ths miles to park entrance. When the road turns left\, go ~ 8/10ths mile to boat ramp parking lot. The take-out is the same location\, so no need to shuttle. \nCamping options:  Finger Lakes State Park offers basic and 30-amp and 50-amp electric campsites. One of the trip leaders will be camping (Carolyn). \nWater classification: Class I (easy) \nPossible hazards or difficult sections of water paddled (other hazards may also be encountered on the trip): Water is deep in places\, and the banks can be steep. \nSkill level required:  New Beginner (paddler with little to no skills.) \nType of boat required: any. \nHow to dress: Dress for immersion.  No cotton. If wearing sandals\, they should have back straps. \nParticipants must bring:   \n\nAppropriate clothing for hot summer weather\, with a complete change of clothes in a dry bag.\nFishing tackle if you want to fish.\nsunscreen\nwater (bring extra – it will be hot).\nsnacks\nlunch\nU.S. Coast Guard approved PFD (life jacket)\n“pealess” whistle\n\nFor a list of items to bring that might be helpful for new paddlers\, here is a link: Kayaking Gear for Every Trip \nMinors are welcome on this trip if a parent or guardian attends. \n  \nPlease check out the Club Sanctioned Trips forum for additional information as it is posted\, or to ask questions or post comments. Finger Lakes State Park Water Trail – St. Louis Canoe & Kayak Club \nRisks involved: Paddlesports and related ACTIVITIES INVOLVE RISKS AND DANGERS OF DAMAGE TO PERSONAL PROPERTY AND SERIOUS BODILY INJURY\, INCLUDING PERMANENT DISABILITY\, PARALYSIS\, AND DEATH. These Risks and dangers may be caused by my own actions or inactions\, the actions or inactions of others participating\, leading\, or helping in the Activity\, and the condition in which the Activity takes place\, There may be OTHER RISKS AND SOCIAL AND ECONOMIC LOSSES either not known to me or not readily foreseeable at this time. \n————————————————————- \nTip leaders: Gary Strohmeyer (314-585-8889)\, Carolyn Knarr (314-556-1427) \nTo attend this trip/event: \n You must reserve a ticket for each person attending (see tickets below).\nThis provides the trip leader with important information they need for safety and communication\, and information the club needs for ACA reporting. \nIf you get a ticket and then cannot go for any reason\, let the Trip Leader know.  \n\nIf you are an ACA member\, please make sure you have an annual waiver signed on their website and have linked your account with St. Louis Canoe and Kayak Club. Here are instructions: Linking your ACA account to St. Louis Canoe and Kayak..docx  This is the only way we can add your waiver to the trip final report.\nIf you are not an ACA member (American Canoe Association)\, you will be sent an email about 30 days before the trip to create a non-member ACA account and pay for a single event insurance\, which is $10.
URL:https://stlcanoekayak.com/event/finger-lakes-state-park-water-trail/
LOCATION:Finger Lakes State Park boat ramp\, 1505 Peabody Rd.\, Columbia\, MO\, 65202\, United States
ATTACH;FMTTYPE=image/webp:https://stlcanoekayak.com/wp-content/uploads/2026/04/ghows-MO-5ed38351-5d2f-42a2-8ac1-f31a5a2d0173-fbc831b6.webp
END:VEVENT
END:VCALENDAR