BEGIN:VCALENDAR
VERSION:2.0
PRODID:-//St. Louis Canoe &amp; Kayak Club - ECPv6.15.20//NONSGML v1.0//EN
CALSCALE:GREGORIAN
METHOD:PUBLISH
X-ORIGINAL-URL:https://stlcanoekayak.com
X-WR-CALDESC:Events for St. Louis Canoe &amp; Kayak Club
REFRESH-INTERVAL;VALUE=DURATION:PT1H
X-Robots-Tag:noindex
X-PUBLISHED-TTL:PT1H
BEGIN:VTIMEZONE
TZID:America/Chicago
BEGIN:DAYLIGHT
TZOFFSETFROM:-0600
TZOFFSETTO:-0500
TZNAME:CDT
DTSTART:20240310T080000
END:DAYLIGHT
BEGIN:STANDARD
TZOFFSETFROM:-0500
TZOFFSETTO:-0600
TZNAME:CST
DTSTART:20241103T070000
END:STANDARD
BEGIN:DAYLIGHT
TZOFFSETFROM:-0600
TZOFFSETTO:-0500
TZNAME:CDT
DTSTART:20250309T080000
END:DAYLIGHT
BEGIN:STANDARD
TZOFFSETFROM:-0500
TZOFFSETTO:-0600
TZNAME:CST
DTSTART:20251102T070000
END:STANDARD
BEGIN:DAYLIGHT
TZOFFSETFROM:-0600
TZOFFSETTO:-0500
TZNAME:CDT
DTSTART:20260308T080000
END:DAYLIGHT
BEGIN:STANDARD
TZOFFSETFROM:-0500
TZOFFSETTO:-0600
TZNAME:CST
DTSTART:20261101T070000
END:STANDARD
END:VTIMEZONE
BEGIN:VEVENT
DTSTART;TZID=America/Chicago:20250206T190000
DTEND;TZID=America/Chicago:20250206T203000
DTSTAMP:20260424T061248
CREATED:20241223T174838Z
LAST-MODIFIED:20250128T150542Z
UID:4240-1738868400-1738873800@stlcanoekayak.com
SUMMARY:February Monthly Club Meeting
DESCRIPTION:This month’s meeting will include a presentation from Team River Runner’s Sally Haywood on ACA instructor certification. She will cover the various levels of certification\, and the process for becoming certified and maintaining certification. Also\, Perry Whitaker from the Alpine Shop will be discussing spray skirts. \nThe St. Louis Canoe & Kayak Club holds an open monthly meeting on the first Thursday of every month\, with some exceptions: we are usually off in July\, we often hold a picnic in September\, and we hold a holiday party in December. Meetings are open to ALL\, whether you are a member\, joining us after a break\, or checking us out for the first time! See events calendar for upcoming meetings. \nMeetings are held in the second floor meeting room at: Shrewsbury City Center\, 5200 Shrewsbury Ave\, St. Louis\, MO 63119. The room is open at 6:30pm for socializing and the meeting begins at 7pm. If inclement weather or other circumstances prevent in-person meeting\, we will send out an email to members and hold the meeting via Zoom. \nMeetings can be accessed virtually by Zoom: https://us06web.zoom.us/j/82042351004?pwd=WDR6b0tCWld4cGVTcHZxL08vd1FGZz09
URL:https://stlcanoekayak.com/event/february-monthly-club-meeting/
LOCATION:MO
END:VEVENT
BEGIN:VEVENT
DTSTART;TZID=America/Chicago:20250215T100000
DTEND;TZID=America/Chicago:20250215T140000
DTSTAMP:20260424T061248
CREATED:20250109T200345Z
LAST-MODIFIED:20250109T200345Z
UID:4333-1739613600-1739628000@stlcanoekayak.com
SUMMARY:Ice Jam at the Dam
DESCRIPTION:February 15 @ 10:00 am –  2:00 pm \nThe fourth annual Ice Jam at the Dam winter festival is being held at the National Great Rivers Museum. It will be a day of winter-themed fun\, including live music from Chris Cahill & Co.\, educational vendor booths\, food trucks\, tours of the lock and dam\, winter movies in the theater\, crafts for kids\, and more. \nSLCKC will be participating in this event.  This year our booth will be indoors (!!!).  We need volunteers to be at our table. If you can help\, please email our outreach committee chairperson\, Randy Norris:   randynorr@gmail.com
URL:https://stlcanoekayak.com/event/ice-jam-at-the-dam/
LOCATION:National Great Rivers Museum\, 1 Lock and Dam Way\, Alton\, IL\, 62002\, United States
END:VEVENT
BEGIN:VEVENT
DTSTART;TZID=America/Chicago:20250215T160000
DTEND;TZID=America/Chicago:20250217T100000
DTSTAMP:20260424T061248
CREATED:20241130T031537Z
LAST-MODIFIED:20250110T173055Z
UID:4129-1739635200-1739786400@stlcanoekayak.com
SUMMARY:Women's Retreat
DESCRIPTION:Ladies’ Huzzah Hideout Galentine Retreat \n \nSaturday\, February 15th @ 4pm – Monday\, February 17th 10:00 am. (Monday is a federal holiday)\nCome join us at the amazing Huzzah Hideout cabin in Crawford County\, MO situated at the confluence of the Huzzah and Courtois Rivers. $150.00 for Sunday breakfast and dinner\, Monday breakfast\, and 2 nights lodging. Participants will bring Saturday evening appetizers and Sunday lunch. Activities include hiking\, paddling (if weather permits)\, hot tub\, barrel sauna\, yoga\, vision board\, and a cozy fireplace. This is a great opportunity to relax and pamper yourself as well as get to know some of the other ladies in SLCKC. Cabin includes 3 bedrooms and a large sleeping room in basement. A short walk to the Huzzah River. \nLimit: 12 participants. \nTo attend this event: \n\nYou must fill out a smartwaiver. (This is new.)  Here is the link: https://waiver.smartwaiver.com/e/Kmd7icASC5uLAgwdF3aDLF/\nYou MUST pay when you register.\nPay with Dorine’s Venmo (below)\nEmail Dorine at the same time to let her know you are coming. dorinetrappers2022@gmail.com\nPayment is nonrefundable but transferable (unless trip is canceled). You will get to pick your sleeping spot when you register\, so register early.\n\n \nTo chat about this event: If you want to chat about who is going\, ask questions\, arrange carpools\, or check last minute updates\, you can email Dorine and/or see the relevant post on the Club-Sanctioned Trip Into & Comments section of our forums: Club Sanctioned Trip Info & Comments – St. Louis Canoe & Kayak Club (stlcanoekayak.com) \n 
URL:https://stlcanoekayak.com/event/womens-retreat/
LOCATION:Huzzah Hideaway
ORGANIZER;CN="St Louis Canoe & Kayak Club":MAILTO:admin@stlcanoekayak.com
END:VEVENT
END:VCALENDAR