BEGIN:VCALENDAR
VERSION:2.0
PRODID:-//St. Louis Canoe &amp; Kayak Club - ECPv6.15.20//NONSGML v1.0//EN
CALSCALE:GREGORIAN
METHOD:PUBLISH
X-WR-CALNAME:St. Louis Canoe &amp; Kayak Club
X-ORIGINAL-URL:https://stlcanoekayak.com
X-WR-CALDESC:Events for St. Louis Canoe &amp; Kayak Club
REFRESH-INTERVAL;VALUE=DURATION:PT1H
X-Robots-Tag:noindex
X-PUBLISHED-TTL:PT1H
BEGIN:VTIMEZONE
TZID:America/Chicago
BEGIN:DAYLIGHT
TZOFFSETFROM:-0600
TZOFFSETTO:-0500
TZNAME:CDT
DTSTART:20240310T080000
END:DAYLIGHT
BEGIN:STANDARD
TZOFFSETFROM:-0500
TZOFFSETTO:-0600
TZNAME:CST
DTSTART:20241103T070000
END:STANDARD
BEGIN:DAYLIGHT
TZOFFSETFROM:-0600
TZOFFSETTO:-0500
TZNAME:CDT
DTSTART:20250309T080000
END:DAYLIGHT
BEGIN:STANDARD
TZOFFSETFROM:-0500
TZOFFSETTO:-0600
TZNAME:CST
DTSTART:20251102T070000
END:STANDARD
BEGIN:DAYLIGHT
TZOFFSETFROM:-0600
TZOFFSETTO:-0500
TZNAME:CDT
DTSTART:20260308T080000
END:DAYLIGHT
BEGIN:STANDARD
TZOFFSETFROM:-0500
TZOFFSETTO:-0600
TZNAME:CST
DTSTART:20261101T070000
END:STANDARD
END:VTIMEZONE
BEGIN:VEVENT
DTSTART;TZID=America/Chicago:20250101T103000
DTEND;TZID=America/Chicago:20250101T150000
DTSTAMP:20260424T072714
CREATED:20241219T202253Z
LAST-MODIFIED:20241230T150710Z
UID:4217-1735727400-1735743600@stlcanoekayak.com
SUMMARY:Annual New Year's Day Paddle on the Meramec
DESCRIPTION:January 01/01/2025 @ 10:30 am  Free – $11.50 \nPlanning on doing my New Years Day paddle again this year. The plan is to meet at the Route 66 Park boat access at 10:30 am. We will be paddling upstream to where the Big River meets the Meramec and back to the put-in. We will stop for a short break and stretch on a gravel bar by the confluence of the two rivers. This is about a 6 mile paddle in total. Since we will be returning to the put-in there will not be any shuttling. This is generally flat water with little current\nuntil we get close to the confluence so longer boats do better\, but as everybody knows I generally don’t hurry on the water. Please be aware of the water and weather conditions and dress appropriately ( no cotton). If you do not have a dry suit or wet suit\, bring additional clothes in a waterproof dry bag just in case (better safe than sorry). This trip as all trips will be weather and water conditions dependent and I will monitor these and post any cancellation or changes\nto the plan just before the event\, so be sure to check the website for these. I plan on eating a late lunch at Altos Cantina if anyone wants to join me. \nPs: When you sign up would you also go to the link in club sanctioned trip comments and add your name so other club members can see who is coming. \nTrip leader: Dennis Strubberg (dfstrubberg@yahoo.com) \nTo attend this trip/event: \n\nYou must reserve ticket for each person attending (see tickets below).\nThis provides the trip coordinator with important information for safety and communication and gives the club important information we need for reporting to ACA within 30 days of the event.\nYou must fill out an event-specific waiver. This waiver link includes options for ACA members and non-members\, as well as adults and minors:  https://waiver.smartwaiver.com/e/Wni2icqJViApWC9dLiS6ke/\n\nTo chat about this event: If you want to chat about who is going\, ask questions\, arrange carpools\, or check last minute updates\, please see the relevant post on the Club-Sanctioned Trip Into & Comments section of our forums: Club Sanctioned Trip Info & Comments – St. Louis Canoe & Kayak Club (stlcanoekayak.com)   \n  \n 
URL:https://stlcanoekayak.com/event/new-years-eve-paddle-on-the-meramec/
LOCATION:Route 66 SP boat ramp\, 50 S Outer Road\, Eureka\, MO\, 63025\, United States
END:VEVENT
BEGIN:VEVENT
DTSTART;TZID=America/Chicago:20250102T190000
DTEND;TZID=America/Chicago:20250102T203000
DTSTAMP:20260424T072714
CREATED:20241216T224257Z
LAST-MODIFIED:20241223T174918Z
UID:4204-1735844400-1735849800@stlcanoekayak.com
SUMMARY:January Monthly Club Meeting
DESCRIPTION:This month’s meeting will include a presentation from MRWTA on the Mississippi Meanderings event being held later this month.  The business meeting will cover the club’s financials and elicit input on various topics. \nThe St. Louis Canoe & Kayak Club holds an open monthly meeting on the first Thursday of every month\, with some exceptions: we are usually off in July\, we often hold a picnic in September\, and we hold a holiday party in December. Meetings are open to ALL\, whether you are a member\, joining us after a break\, or checking us out for the first time! See events calendar for upcoming meetings. \nMeetings are held in the second floor meeting room at: Shrewsbury City Center\, 5200 Shrewsbury Ave\, St. Louis\, MO 63119. The room is open at 6:30pm for socializing and the meeting begins at 7pm. If inclement weather or other circumstances prevent in-person meeting\, we will send out an email to members and hold the meeting via Zoom. \nMeetings can be accessed virtually by Zoom: https://us06web.zoom.us/j/82042351004?pwd=WDR6b0tCWld4cGVTcHZxL08vd1FGZz09 \n 
URL:https://stlcanoekayak.com/event/monthly-club-meeting/
LOCATION:Shrewsbury Community Center\, 5200 Shrewsbury Ave.\, St. Louis\, MO\, 63119\, United States
END:VEVENT
BEGIN:VEVENT
DTSTART;TZID=America/Chicago:20250125T120000
DTEND;TZID=America/Chicago:20250125T170000
DTSTAMP:20260424T072714
CREATED:20241219T001750Z
LAST-MODIFIED:20241219T001750Z
UID:4210-1737806400-1737824400@stlcanoekayak.com
SUMMARY:Mississippi Meanderings
DESCRIPTION:  \n  \nhttps://mississippiriverwatertrail.org/event/mississippi-meanderings-2025/ \n  \n 
URL:https://stlcanoekayak.com/event/mississippi-meanderings/
LOCATION:MO
END:VEVENT
END:VCALENDAR