BEGIN:VCALENDAR
VERSION:2.0
PRODID:-//St. Louis Canoe &amp; Kayak Club - ECPv6.15.20//NONSGML v1.0//EN
CALSCALE:GREGORIAN
METHOD:PUBLISH
X-WR-CALNAME:St. Louis Canoe &amp; Kayak Club
X-ORIGINAL-URL:https://stlcanoekayak.com
X-WR-CALDESC:Events for St. Louis Canoe &amp; Kayak Club
REFRESH-INTERVAL;VALUE=DURATION:PT1H
X-Robots-Tag:noindex
X-PUBLISHED-TTL:PT1H
BEGIN:VTIMEZONE
TZID:America/Chicago
BEGIN:DAYLIGHT
TZOFFSETFROM:-0600
TZOFFSETTO:-0500
TZNAME:CDT
DTSTART:20230312T080000
END:DAYLIGHT
BEGIN:STANDARD
TZOFFSETFROM:-0500
TZOFFSETTO:-0600
TZNAME:CST
DTSTART:20231105T070000
END:STANDARD
BEGIN:DAYLIGHT
TZOFFSETFROM:-0600
TZOFFSETTO:-0500
TZNAME:CDT
DTSTART:20240310T080000
END:DAYLIGHT
BEGIN:STANDARD
TZOFFSETFROM:-0500
TZOFFSETTO:-0600
TZNAME:CST
DTSTART:20241103T070000
END:STANDARD
BEGIN:DAYLIGHT
TZOFFSETFROM:-0600
TZOFFSETTO:-0500
TZNAME:CDT
DTSTART:20250309T080000
END:DAYLIGHT
BEGIN:STANDARD
TZOFFSETFROM:-0500
TZOFFSETTO:-0600
TZNAME:CST
DTSTART:20251102T070000
END:STANDARD
END:VTIMEZONE
BEGIN:VEVENT
DTSTART;TZID=America/Chicago:20240905T180000
DTEND;TZID=America/Chicago:20240905T200000
DTSTAMP:20260424T113637
CREATED:20240216T075845Z
LAST-MODIFIED:20240929T184941Z
UID:2144-1725559200-1725566400@stlcanoekayak.com
SUMMARY:Monthly Club Meeting: Potluck
DESCRIPTION:September Potluck at George Winter Park\, Lyons Shelter \nPlease join us for our annual fall potluck where we get time to socialize with new and current members and catch up on paddling adventures. Use the attached ticket to check out and let us know you are coming. Bring us some of your best cooking! We will provide the meat\, including vegan. \nPlease get a “ticket” (below) to register for this event so we know how many people to buy for. (You don’t have to bring the ticker to the potluck.)
URL:https://stlcanoekayak.com/event/monthly-club-meeting-potluck/
LOCATION:George Winter Park\, 401 Allen Road\, Fenton\, MO\, 63026
ATTACH;FMTTYPE=image/jpeg:https://stlcanoekayak.com/wp-content/uploads/2024/02/George-Winter-Park.jpg
END:VEVENT
BEGIN:VEVENT
DTSTART;TZID=America/Chicago:20240824T090000
DTEND;TZID=America/Chicago:20240825T150000
DTSTAMP:20260424T113637
CREATED:20240815T203203Z
LAST-MODIFIED:20240815T204537Z
UID:3402-1724490000-1724598000@stlcanoekayak.com
SUMMARY:ACA Club Trip: Kids and family trip on the Current\, Aug 24-25\, 2024
DESCRIPTION:This is a kids and Family Current River Trip August 24th 25th. We will paddle the upper Current River the launch and take out will be decided closer to the event when we know water levels.. We will meet at Pulltite at 9:00 AM on Saturday. We will be camping on the river on a gravel bar\, so all gear and food will need to be carried in your boat. We should be off the river @3 on Sunday. There is a limit of 24\, including trip leaders. \nTrip leader: Dave Haessig\, dghaessig@yahoo.com\, Briana Conley\, bri.conley89@gmail.com \nTo register for this trip\, each participant MUST do TWO things: \n\nEach participant (or parent/guardian for each minor) must sign the Smartwaiver for the trip. For each participant\, first select the waiver based onif the participant is an ACA annual member or not an annual member\, then choose the appropriate waiver if the participant is an adult or a minor. The waiver link is here: https://waiver.smartwaiver.com/e/7g7GDdCbXVc5S2ff3PbwA6/\nReserve your slots with Tickets below. Please contact admin@stlcanoekayak.com if you have questions about which tickets to select. Adults will be able to reserve slots and enter participant information for minors in the checkout fields.\n\n 
URL:https://stlcanoekayak.com/event/aca-club-event-kids-and-family-trip-on-the-current-aug-24-25-2024/
LOCATION:Pulltite Campground\, 31104 County Road EE-356\, Salem\, MO\, 65560\, United States
END:VEVENT
BEGIN:VEVENT
DTSTART;TZID=America/Chicago:20240801T183000
DTEND;TZID=America/Chicago:20240801T200000
DTSTAMP:20260424T113637
CREATED:20240216T075747Z
LAST-MODIFIED:20240929T184907Z
UID:2142-1722537000-1722542400@stlcanoekayak.com
SUMMARY:Monthly Club Meeting: River camping 101
DESCRIPTION:Topic: River camping 101 with Jim Moody \nThe St. Louis Canoe & Kayak Club holds an open monthly meeting on the first Thursday of every month\, with some exceptions: we are usually off in July\, we often hold a picnic in September\, and we hold a holiday party in December. Meetings are open to ALL\, whether you are a member\, joining us after a break\, or checking us out for the first time! See events calendar for upcoming meetings. \n\n\n\nMeetings are held in the second floor meeting room at: Shrewsbury City Center\, 5200 Shrewsbury Ave\, St. Louis\, MO 63119. The room is open at 6:30pm for socializing and the meeting begins at 7pm. If inclement weather or other circumstances prevent in-person meeting\, we will send out an email to members and hold the meeting via Zoom. \n\n\n\nMeetings can be accessed virtually by Zoom: https://us06web.zoom.us/j/82042351004?pwd=WDR6b0tCWld4cGVTcHZxL08vd1FGZz09
URL:https://stlcanoekayak.com/event/monthly-club-meeting-topic-tbd/
LOCATION:Shrewsbury Community Center\, 5200 Shrewsbury Ave.\, St. Louis\, MO\, 63119\, United States
END:VEVENT
BEGIN:VEVENT
DTSTART;TZID=America/Chicago:20240606T133000
DTEND;TZID=America/Chicago:20240606T150000
DTSTAMP:20260424T113637
CREATED:20240216T075625Z
LAST-MODIFIED:20240929T184916Z
UID:2139-1717680600-1717686000@stlcanoekayak.com
SUMMARY:Monthly Club Meeting: Earth's Classroom
DESCRIPTION:Topic: Earth’s Classroom by Bill Miles \nhe St. Louis Canoe & Kayak Club holds an open monthly meeting on the first Thursday of every month. The meeting is held in the second floor meeting room at: Shrewsbury City Center\, 5200 Shrewsbury Ave\, St. Louis\, MO 63119. The room is open at 6:30pm for socializing and the meeting begins at 7pm. The meeting is open to ALL\, whether you are a member\, joining us after a break\, or checking us out for the first time! \nMeetings can be accessed virtually by Zoom: https://us06web.zoom.us/j/82042351004?pwd=WDR6b0tCWld4cGVTcHZxL08vd1FGZz09
URL:https://stlcanoekayak.com/event/monthly-club-meeting-earths-classroom/
LOCATION:Shrewsbury Community Center\, 5200 Shrewsbury Ave.\, St. Louis\, MO\, 63119\, United States
END:VEVENT
END:VCALENDAR