BEGIN:VCALENDAR
VERSION:2.0
PRODID:-//St. Louis Canoe &amp; Kayak Club - ECPv6.15.20//NONSGML v1.0//EN
CALSCALE:GREGORIAN
METHOD:PUBLISH
X-WR-CALNAME:St. Louis Canoe &amp; Kayak Club
X-ORIGINAL-URL:https://stlcanoekayak.com
X-WR-CALDESC:Events for St. Louis Canoe &amp; Kayak Club
REFRESH-INTERVAL;VALUE=DURATION:PT1H
X-Robots-Tag:noindex
X-PUBLISHED-TTL:PT1H
BEGIN:VTIMEZONE
TZID:America/Chicago
BEGIN:DAYLIGHT
TZOFFSETFROM:-0600
TZOFFSETTO:-0500
TZNAME:CDT
DTSTART:20250309T080000
END:DAYLIGHT
BEGIN:STANDARD
TZOFFSETFROM:-0500
TZOFFSETTO:-0600
TZNAME:CST
DTSTART:20251102T070000
END:STANDARD
BEGIN:DAYLIGHT
TZOFFSETFROM:-0600
TZOFFSETTO:-0500
TZNAME:CDT
DTSTART:20260308T080000
END:DAYLIGHT
BEGIN:STANDARD
TZOFFSETFROM:-0500
TZOFFSETTO:-0600
TZNAME:CST
DTSTART:20261101T070000
END:STANDARD
BEGIN:DAYLIGHT
TZOFFSETFROM:-0600
TZOFFSETTO:-0500
TZNAME:CDT
DTSTART:20270314T080000
END:DAYLIGHT
BEGIN:STANDARD
TZOFFSETFROM:-0500
TZOFFSETTO:-0600
TZNAME:CST
DTSTART:20271107T070000
END:STANDARD
END:VTIMEZONE
BEGIN:VEVENT
DTSTART;TZID=America/Chicago:20261114T080000
DTEND;TZID=America/Chicago:20261114T160000
DTSTAMP:20260423T181232
CREATED:20260209T022233Z
LAST-MODIFIED:20260421T191754Z
UID:7150-1794643200-1794672000@stlcanoekayak.com
SUMMARY:Bourbeuse River Paddle and Picnic
DESCRIPTION:This is a 1-day paddle from Uhlemeyer access to Robertsville State Park boat ramp. We will have a potluck afterward at Robertsville State Park. \n“Although the Gasconade has a reputation for being crooked\, the meandering of the Bourbeuse is more extreme. It winds for nearly 100 miles with an airplane distance of only 27 miles. This is a relatively small\, slow river which is not as clear as many of the streams farther south.” (A Paddler’s Guide to Missouri) It is one of 2 major Tributaries of the Meramec River\, the other being Big River. “It provides some rather good bass fishing\, has many picturesque features and is surprisingly little cut up by roads crossing it. It is seldom floatable in summer above Bartel Bend (Hwy. H) and becomes rather “civilized” beyond the first Union Bridge.”  (Float Missouri) Anyone can paddle the Bourbeuse. \nMeeting Location: Uhlemeyer Access (Exit I-44 at Route 0 and go south to the access\, which is immediately to the west.) \nWater classification: \nClass I: Fast-moving water with riffles and small waves; few obstructions\, all obvious and easily missed with little training; risk to swimmers is slight; self-rescue is easy. \nSkill level required: \n New Beginner (paddler with little to no skills.) \nType of boat required: any \nHow to dress: Dress for immersion. A dry suit or wetsuit is needed or change of clothing in a drybag. No cotton. \nParticipants must bring:  (Take this off the Request form for STL Canoe & Kayak Club trip/event.)  \n\nA complete change of clothes in a dry bag. (if not wearing a dry suit.)\nwater \nlunch\nU.S. Coast Guard approved PFD (life jacket)\n“pealess” whistle \nfood for potluck afterward if you want to participate\n\nFor a list of items to bring that might be helpful for new paddlers\, here is a link: Kayaking Gear for Every Trip \nMinors are welcome on this trip if a parent or guardian attends. \n  \nPlease check out the Club Sanctioned Trips forum for additional information as it is posted\, or to ask questions or post comments.  Club Sanctioned Trip Info & Comments – St. Louis Canoe & Kayak Club \nRisks involved: Paddlesports and related ACTIVITIES INVOLVE RISKS AND DANGERS OF DAMAGE TO PERSONAL PROPERTY AND SERIOUS BODILY INJURY\, INCLUDING PERMANENT DISABILITY\, PARALYSIS\, AND DEATH. These Risks and dangers may be caused by my own actions or inactions\, the actions or inactions of others participating\, leading\, or helping in the Activity\, and the condition in which the Activity takes place\, There may be OTHER RISKS AND SOCIAL AND ECONOMIC LOSSES either not known to me or not readily foreseeable at this time. \n————————————————————- \nTip leader: (Include phone number) \nTo attend this trip/event: \n You must reserve a ticket for each person attending (see tickets below).\nThis provides the trip leader with important information they need for safety and communication\, and information the club needs for ACA reporting. \nIf you get a ticket and then cannot go for any reason\, let the Trip Leader know. \n\nIf you are an ACA member\, please make sure you have an annual waiver signed on their website and have linked your account with St. Louis Canoe and Kayak Club. Here are instructions: Linking your ACA account to St. Louis Canoe and Kayak..docx  This is the only way we can add your waiver to the trip final report.\nIf you are not an ACA member (American Canoe Association)\, you will be sent an email about 30 days before the trip to create a non-member ACA account and pay for a single event insurance\, which is $10.\n\nTicket sales end 9/12 at 8:00 am. \n 
URL:https://stlcanoekayak.com/event/bourbeuse-river-paddle-and-picnic/
LOCATION:Uhlemeyer Access\, Union\, MO
END:VEVENT
END:VCALENDAR