BEGIN:VCALENDAR
VERSION:2.0
PRODID:-//St. Louis Canoe &amp; Kayak Club - ECPv6.15.20//NONSGML v1.0//EN
CALSCALE:GREGORIAN
METHOD:PUBLISH
X-WR-CALNAME:St. Louis Canoe &amp; Kayak Club
X-ORIGINAL-URL:https://stlcanoekayak.com
X-WR-CALDESC:Events for St. Louis Canoe &amp; Kayak Club
REFRESH-INTERVAL;VALUE=DURATION:PT1H
X-Robots-Tag:noindex
X-PUBLISHED-TTL:PT1H
BEGIN:VTIMEZONE
TZID:America/Chicago
BEGIN:DAYLIGHT
TZOFFSETFROM:-0600
TZOFFSETTO:-0500
TZNAME:CDT
DTSTART:20250309T080000
END:DAYLIGHT
BEGIN:STANDARD
TZOFFSETFROM:-0500
TZOFFSETTO:-0600
TZNAME:CST
DTSTART:20251102T070000
END:STANDARD
BEGIN:DAYLIGHT
TZOFFSETFROM:-0600
TZOFFSETTO:-0500
TZNAME:CDT
DTSTART:20260308T080000
END:DAYLIGHT
BEGIN:STANDARD
TZOFFSETFROM:-0500
TZOFFSETTO:-0600
TZNAME:CST
DTSTART:20261101T070000
END:STANDARD
BEGIN:DAYLIGHT
TZOFFSETFROM:-0600
TZOFFSETTO:-0500
TZNAME:CDT
DTSTART:20270314T080000
END:DAYLIGHT
BEGIN:STANDARD
TZOFFSETFROM:-0500
TZOFFSETTO:-0600
TZNAME:CST
DTSTART:20271107T070000
END:STANDARD
END:VTIMEZONE
BEGIN:VEVENT
DTSTART;TZID=America/Chicago:20260815T080000
DTEND;TZID=America/Chicago:20260816T170000
DTSTAMP:20260423T181531
CREATED:20260208T033735Z
LAST-MODIFIED:20260421T191537Z
UID:7070-1786780800-1786899600@stlcanoekayak.com
SUMMARY:North Fork of the White  (free-$11.50)
DESCRIPTION:This a 2-day trip with base camping at the North Fork or Twin Bridges Campground. We will be paddling the first day from the North Fork Recreation area to Blair Bridge.  We are unsure of the second day paddle at this point\, as we are waiting for Twin Bridges to open up for the season and to see if MDC repairs the Hebron access. \nThe spring-fed North Fork of the White River is a near-perpetual stream offering abundant opportunities for canoeing\, kayaking and slow rafting on flatwater with occasional Class I to II riffles that is very well suited for just about any paddler regardless of experience. The river courses through Mark Twain National Forest in extreme southcentral Missouri\, approaching the Arkansas State Line as it flows into Norfork Lake just above its confluence with the mainstream of the White River southeast of Bull Shoals Lake. The area is very scenic\, and the lower 25 miles are very popular with canoeists and kayakers in spring and summer months. Cool\, clear waters and excellent shade from the sun make the North Fork a very enjoyable place for family outings\, and the nearly 50 miles of river that normally can be paddled without having to dodge dead-fallen tree debris offers opportunities for multi-day trips for those wanting more than just a few hours on the water. \nWe will be meeting at 8:00 am on Saturday\, Aug. 15 at the boat ramp in the North Fork Recreation Area. \nCamping options: \nThere is camping at North Fork campground which is primitive and first come. You can also camp or get a cabin at Twin Bridges campground. \nWater classification: Class I and Class II: \nClass I: Fast-moving water with riffles and small waves; few obstructions\, all obvious and easily missed with little training; risk to swimmers is slight; self-rescue is easy. \nClass II: Straightforward rapids with wide\, clear channels which are evident without scouting; occasional maneuvering may be required\, but rocks and medium-sized waves are easily missed by trained paddlers; swimmers are seldom injured and group assistance\, while helpful\, is seldom needed. \nPossible hazards or difficult sections of water paddled (other hazards may also be encountered on the trip): \nThis river has swift current\, a drop-off to paddle over\, large rocks to navigate around\, riffles\, wave trains\, possible strainers (downed trees)\, cold water temperatures\, undercut rocks\, and potential for entrapment. \nSkill level required: \nConfident Beginner (paddler who has a strong forward stroke\, knows other basic strokes\, has stamina and skill to finish a 10-12 mile river trip\, and can maneuver their boat through and around obstacles in moving water.) \nType of boat required: Plastic\, 15′ or shorter. \nParticipants must bring:  \n\nA helmet (a bicycle helmet is not acceptable)\nA complete change of clothes in a dry bag. \nwater \nlunch for on the river\nU.S. Coast Guard approved PFD (life jacket)\n“pealess” whistle \nsunscreen\nbug spray\ncamping gear and food\n\nFor a list of items to bring that might be helpful for new paddlers\, here is a link: Kayaking Gear for Every Trip \nHow to dress: Dress for immersion. The water can be cold. No cotton. Sandals must have back straps. \nMinors are welcome on this trip if a parent or guardian attends. \n  \nPlease check out the Club Sanctioned Trips forum for additional information as it is posted\, or to ask questions or post comments.  Club Sanctioned Trip Info & Comments – St. Louis Canoe & Kayak Club \nRisks involved: Paddlesports and related ACTIVITIES INVOLVE RISKS AND DANGERS OF DAMAGE TO PERSONAL PROPERTY AND SERIOUS BODILY INJURY\, INCLUDING PERMANENT DISABILITY\, PARALYSIS\, AND DEATH. These Risks and dangers may be caused by my own actions or inactions\, the actions or inactions of others participating\, leading\, or helping in the Activity\, and the condition in which the Activity takes place\, There may be OTHER RISKS AND SOCIAL AND ECONOMIC LOSSES either not known to me or not readily foreseeable at this time. \n————————————————————- \nTip leader: Dave Haessig  (314-304-7970) \nTo attend this trip/event: \n You must reserve a ticket for each person attending (see tickets below).\nThis provides the trip leader with important information they need for safety and communication\, and information the club needs for ACA reporting. \nIf you purchase a ticket for this trip but decide you cannot attend\, PLEASE contact the trip leader to let them know. \n\nIf you are an ACA member\, please make sure you have an annual waiver signed on their website and have linked your account with St. Louis Canoe and Kayak Club. Here are instructions: Linking your ACA account to St. Louis Canoe and Kayak..docx  This is the only way we can add your waiver to the trip final report.\nIf you are not an ACA member (American Canoe Association)\, you will be sent an email about 30 days before the trip to create a non-member ACA account and pay for a single event insurance\, which is $10.\n\nTicket sales end Aug. 12 at 5:00 pm.
URL:https://stlcanoekayak.com/event/north-fork-of-the-white-free-11-50/
LOCATION:North Fork of the White Recreation Area\, Pottersville\, MO\, 65790\, United States
END:VEVENT
END:VCALENDAR