BEGIN:VCALENDAR
VERSION:2.0
PRODID:-//St. Louis Canoe &amp; Kayak Club - ECPv6.15.20//NONSGML v1.0//EN
CALSCALE:GREGORIAN
METHOD:PUBLISH
X-ORIGINAL-URL:https://stlcanoekayak.com
X-WR-CALDESC:Events for St. Louis Canoe &amp; Kayak Club
REFRESH-INTERVAL;VALUE=DURATION:PT1H
X-Robots-Tag:noindex
X-PUBLISHED-TTL:PT1H
BEGIN:VTIMEZONE
TZID:America/Chicago
BEGIN:DAYLIGHT
TZOFFSETFROM:-0600
TZOFFSETTO:-0500
TZNAME:CDT
DTSTART:20250309T080000
END:DAYLIGHT
BEGIN:STANDARD
TZOFFSETFROM:-0500
TZOFFSETTO:-0600
TZNAME:CST
DTSTART:20251102T070000
END:STANDARD
BEGIN:DAYLIGHT
TZOFFSETFROM:-0600
TZOFFSETTO:-0500
TZNAME:CDT
DTSTART:20260308T080000
END:DAYLIGHT
BEGIN:STANDARD
TZOFFSETFROM:-0500
TZOFFSETTO:-0600
TZNAME:CST
DTSTART:20261101T070000
END:STANDARD
BEGIN:DAYLIGHT
TZOFFSETFROM:-0600
TZOFFSETTO:-0500
TZNAME:CDT
DTSTART:20270314T080000
END:DAYLIGHT
BEGIN:STANDARD
TZOFFSETFROM:-0500
TZOFFSETTO:-0600
TZNAME:CST
DTSTART:20271107T070000
END:STANDARD
END:VTIMEZONE
BEGIN:VEVENT
DTSTART;TZID=America/Chicago:20260628T090000
DTEND;TZID=America/Chicago:20260628T170000
DTSTAMP:20260423T152859
CREATED:20260208T163210Z
LAST-MODIFIED:20260421T193758Z
UID:7088-1782637200-1782666000@stlcanoekayak.com
SUMMARY:Big River Kids and Family Trip (free-$11.50)
DESCRIPTION:This is a 5-mile paddle from Mammoth Access to Merrell Horse access. Because it is a short paddle\, we’ll have lots of time to stop and play. \nThe Big River is a tributary of the Meramec River. Around the Washington State Park area\, the river is probably at its very best. The few whitewater rapids you will encounter will be in the Class I range\, and you should not have any difficulty negotiating them. The scenery is awesome\, with deep forests lining the banks of a wide river. We will stop often to splash and play. \nWe will meet at Mammoth Access at 9:00 am. \nWater classification: \nClass I: Fast-moving water with riffles and small waves; few obstructions\, all obvious and easily missed with little training; risk to swimmers is slight; self-rescue is easy. \nPossible hazards or difficult sections of water paddled (other hazards may also be encountered on the trip):  There are few hazards on this river\, but obstacles to paddle around and small strainers are always a possibility. \nSkill level required: This trip is appropriate for beginner paddlers. \n Type of boat required: all boats. \nParticipants must bring:  (Take this off the Request form for STL Canoe & Kayak Club trip/event.)  \n\nwater\nlunch/snacks\nU.S. Coast Guard approved PFD (life jacket)\n“pealess” whistle \nbug spray\nsunscreen\nsquirt guns and toys would be fun\n\nFor a list of items to bring that might be helpful for new paddlers\, here is a link: Kayaking Gear for Every Trip \nHow to dress: Appropriate clothing for kayaking. No cotton. If wearing sandals\, they should have back straps. \nMinors are welcome on this trip. A parent or guardian needs to also attend. \nPlease check out the Club Sanctioned Trips forum for additional information as it is posted\, or to ask questions or post comments.  Club Sanctioned Trip Info & Comments – St. Louis Canoe & Kayak Club \nRisks involved: Paddlesports and related ACTIVITIES INVOLVE RISKS AND DANGERS OF DAMAGE TO PERSONAL PROPERTY AND SERIOUS BODILY INJURY\, INCLUDING PERMANENT DISABILITY\, PARALYSIS\, AND DEATH. These Risks and dangers may be caused by my own actions or inactions\, the actions or inactions of others participating\, leading\, or helping in the Activity\, and the condition in which the Activity takes place\, There may be OTHER RISKS AND SOCIAL AND ECONOMIC LOSSES either not known to me or not readily foreseeable at this time. \n————————————————————- \nTip leader: Dave Haessig 314-304-7970 \nTo attend this trip/event: \n You must reserve a ticket for each person attending (see tickets below).\nThis provides the trip leader with important information they need for safety and communication\, and information the club needs for ACA reporting. \nIf you purchase a ticket for this trip but decide you cannot attend\, PLEASE contact the trip leader to let them know. \n\n\n\nIf you are an ACA member\, please make sure you have an annual waiver signed on their website and have linked your account with St. Louis Canoe and Kayak Club. You must have re-signed this waiver since January 1\, 2026 because they have updated their website. Here are instructions: Linking your ACA account to St. Louis Canoe and Kayak..docx\nIf you are not an ACA member (American Canoe Association)\, you will be sent an email about 30 days before the trip to create a non-member ACA account and pay for a single event insurance\, which is $10.\n\n\n\n  \n 
URL:https://stlcanoekayak.com/event/big-river-kids-and-family-trip-free-11-50/
LOCATION:Mammoth Access Big River\, De Soto\, MO\, 63020\, United States
END:VEVENT
END:VCALENDAR