BEGIN:VCALENDAR
VERSION:2.0
PRODID:-//St. Louis Canoe &amp; Kayak Club - ECPv6.15.20//NONSGML v1.0//EN
CALSCALE:GREGORIAN
METHOD:PUBLISH
X-ORIGINAL-URL:https://stlcanoekayak.com
X-WR-CALDESC:Events for St. Louis Canoe &amp; Kayak Club
REFRESH-INTERVAL;VALUE=DURATION:PT1H
X-Robots-Tag:noindex
X-PUBLISHED-TTL:PT1H
BEGIN:VTIMEZONE
TZID:America/Chicago
BEGIN:DAYLIGHT
TZOFFSETFROM:-0600
TZOFFSETTO:-0500
TZNAME:CDT
DTSTART:20250309T080000
END:DAYLIGHT
BEGIN:STANDARD
TZOFFSETFROM:-0500
TZOFFSETTO:-0600
TZNAME:CST
DTSTART:20251102T070000
END:STANDARD
BEGIN:DAYLIGHT
TZOFFSETFROM:-0600
TZOFFSETTO:-0500
TZNAME:CDT
DTSTART:20260308T080000
END:DAYLIGHT
BEGIN:STANDARD
TZOFFSETFROM:-0500
TZOFFSETTO:-0600
TZNAME:CST
DTSTART:20261101T070000
END:STANDARD
BEGIN:DAYLIGHT
TZOFFSETFROM:-0600
TZOFFSETTO:-0500
TZNAME:CDT
DTSTART:20270314T080000
END:DAYLIGHT
BEGIN:STANDARD
TZOFFSETFROM:-0500
TZOFFSETTO:-0600
TZNAME:CST
DTSTART:20271107T070000
END:STANDARD
END:VTIMEZONE
BEGIN:VEVENT
DTSTART;TZID=America/Chicago:20260108T183000
DTEND;TZID=America/Chicago:20260108T200000
DTSTAMP:20260423T164520
CREATED:20251106T025654Z
LAST-MODIFIED:20251229T213349Z
UID:6612-1767897000-1767902400@stlcanoekayak.com
SUMMARY:January Monthly Meeting:  Trip Planning for the Year
DESCRIPTION:Come and share with us what trips you would like to see planned for the year. We would like to post 6-8 trips on the calendar but will add more as the year goes on.  We will also have another trip-leader training in the early spring. More information on this will be coming out soon. \n  \nThe St. Louis Canoe & Kayak Club holds an open monthly meeting on the first Thursday of every month\, with some exceptions: we are usually off in July\, we often hold a picnic in September\, and we hold a holiday party in December. Meetings are open to ALL\, whether you are a member\, joining us after a break\, or checking us out for the first time! See events calendar for upcoming meetings. \nMeetings are usually held in the second-floor meeting room at: Shrewsbury City Center on the second floor\, 5200 Shrewsbury Ave\, St. Louis\, MO 63119. The meeting will start promptly at 6:30 pm and we will have time for socializing following the meeting agenda. If inclement weather or other circumstances prevent in-person meeting\, we will send out an email to members and hold the meeting via Zoom. \nMeetings can be accessed virtually by Zoom: https://us06web.zoom.us/j/82042351004?pwd=WDR6b0tCWld4cGVTcHZxL08vd1FGZz09
URL:https://stlcanoekayak.com/event/january-monthly-meeting-trip-planning-for-the-year/
LOCATION:Shrewsbury Community Center\, meeting room 1\, 5200 Shrewsbury Ave\,\, Shrewsbury\, MO\, 63119\, United States
END:VEVENT
END:VCALENDAR