BEGIN:VCALENDAR
VERSION:2.0
PRODID:-//St. Louis Canoe &amp; Kayak Club - ECPv6.15.20//NONSGML v1.0//EN
CALSCALE:GREGORIAN
METHOD:PUBLISH
X-WR-CALNAME:St. Louis Canoe &amp; Kayak Club
X-ORIGINAL-URL:https://stlcanoekayak.com
X-WR-CALDESC:Events for St. Louis Canoe &amp; Kayak Club
REFRESH-INTERVAL;VALUE=DURATION:PT1H
X-Robots-Tag:noindex
X-PUBLISHED-TTL:PT1H
BEGIN:VTIMEZONE
TZID:America/Chicago
BEGIN:DAYLIGHT
TZOFFSETFROM:-0600
TZOFFSETTO:-0500
TZNAME:CDT
DTSTART:20240310T080000
END:DAYLIGHT
BEGIN:STANDARD
TZOFFSETFROM:-0500
TZOFFSETTO:-0600
TZNAME:CST
DTSTART:20241103T070000
END:STANDARD
BEGIN:DAYLIGHT
TZOFFSETFROM:-0600
TZOFFSETTO:-0500
TZNAME:CDT
DTSTART:20250309T080000
END:DAYLIGHT
BEGIN:STANDARD
TZOFFSETFROM:-0500
TZOFFSETTO:-0600
TZNAME:CST
DTSTART:20251102T070000
END:STANDARD
BEGIN:DAYLIGHT
TZOFFSETFROM:-0600
TZOFFSETTO:-0500
TZNAME:CDT
DTSTART:20260308T080000
END:DAYLIGHT
BEGIN:STANDARD
TZOFFSETFROM:-0500
TZOFFSETTO:-0600
TZNAME:CST
DTSTART:20261101T070000
END:STANDARD
END:VTIMEZONE
BEGIN:VEVENT
DTSTART;TZID=America/Chicago:20251024T170000
DTEND;TZID=America/Chicago:20251025T170000
DTSTAMP:20260423T205500
CREATED:20250921T235201Z
LAST-MODIFIED:20250921T235201Z
UID:6307-1761325200-1761411600@stlcanoekayak.com
SUMMARY:New Haven Movie Night\, Camping\, and Paddling
DESCRIPTION:MO Paddling Coalition is a collective source of information/resources about paddling in Missouri (and the surrounding areas). Member organizations and friends of MOPadCo gather every other month in locations around the state to share information\, plan events and support each other and paddling sports in our region. SLCKC is part of this organization. \nOn Friday\, October 24\, come gather together at Paddle Stop Brewery in New Haven to watch a movie\, then camp out at the campground by the river. Then on Saturday we will do a paddle together on the Missouri River. \nMore information coming soon.
URL:https://stlcanoekayak.com/event/new-haven-movie-night-camping-and-paddling/
LOCATION:New Haven\, MO
END:VEVENT
BEGIN:VEVENT
DTSTART;VALUE=DATE:20251025
DTEND;VALUE=DATE:20251026
DTSTAMP:20260423T205500
CREATED:20251002T030725Z
LAST-MODIFIED:20251024T183420Z
UID:6381-1761350400-1761436799@stlcanoekayak.com
SUMMARY:Cache River Trip
DESCRIPTION:We will be paddling in the swamp and see many amazing things including the oldest tress in the state of Illinois. The Cache River State Natural Area is situated in southernmost Illinois within a floodplain carved long ago by glacial floodwater of the Ohio River. When the Ohio River adopted its present course\, it left the Cache River to meander across rich and vast wetlands. Among the outstanding natural features are massive cypress trees whose flared bases\, called buttresses\, exceed 40 feet circumference. Many are more than 1\,000 years old\, including one that has earned the title of state champion bald cypress because of its huge trunk girth\, towering height and heavily branched canopy.\n\n\nWe will meet at the Barkhausen-Cache River Wetlands Center at 9:00 AM and then go to the put in. \n\n\nSkill Level: This trip is appropriate for all paddlers and all boat types (not paddle boards)\, including tandems. You need to be able paddle 6-7 miles in flat water with no current and navigate tight turns.\n\n\nCamping:  There is a lovely campground with electricity in the city of Karnak by the Cache River (Campground | villageofkarnak). There are also several campgrounds in the Shawnee National Forest\, including Fern Clyffe (Ferne Clyffe State Park)\n\n\nTrip Leader:  Dorine Johnson and Dave Haessig\n\n\nTo attend this trip/event: \n\nYou must reserve ticket for each person attending (see tickets below).\nTicket sales end October 25 at noon.\n If you are not an ACA member (American Canoe Association)\, you must fill out this waiver: https://waiver.smartwaiver.com/e/HSLHz4zy8ewoMNeVfQhRbM/                                                                  (Minors without an ACA membership must also have this waiver filled out)\n\nIf you are an ACA member and have either an ACA annual waiver or SLCKC annual waiver filled out\, you do not need to sign a waiver for this trip. However\, if you do need to sign an ACA annual waiver\, fill this out: https://waiver.smartwaiver.com/e/VSyMLYT6M3s3w4jDmWBhwN/          It is visible to our club admin AND acts as an ACA annual waiver.
URL:https://stlcanoekayak.com/event/cache-river-trip-2/
LOCATION:Barkhausen-Cache River Wetlands Center\, 8885 IL-37\, Cypress\, IL\, 62923\, United States
END:VEVENT
END:VCALENDAR