BEGIN:VCALENDAR
VERSION:2.0
PRODID:-//St. Louis Canoe &amp; Kayak Club - ECPv6.15.20//NONSGML v1.0//EN
CALSCALE:GREGORIAN
METHOD:PUBLISH
X-WR-CALNAME:St. Louis Canoe &amp; Kayak Club
X-ORIGINAL-URL:https://stlcanoekayak.com
X-WR-CALDESC:Events for St. Louis Canoe &amp; Kayak Club
REFRESH-INTERVAL;VALUE=DURATION:PT1H
X-Robots-Tag:noindex
X-PUBLISHED-TTL:PT1H
BEGIN:VTIMEZONE
TZID:America/Chicago
BEGIN:DAYLIGHT
TZOFFSETFROM:-0600
TZOFFSETTO:-0500
TZNAME:CDT
DTSTART:20240310T080000
END:DAYLIGHT
BEGIN:STANDARD
TZOFFSETFROM:-0500
TZOFFSETTO:-0600
TZNAME:CST
DTSTART:20241103T070000
END:STANDARD
BEGIN:DAYLIGHT
TZOFFSETFROM:-0600
TZOFFSETTO:-0500
TZNAME:CDT
DTSTART:20250309T080000
END:DAYLIGHT
BEGIN:STANDARD
TZOFFSETFROM:-0500
TZOFFSETTO:-0600
TZNAME:CST
DTSTART:20251102T070000
END:STANDARD
BEGIN:DAYLIGHT
TZOFFSETFROM:-0600
TZOFFSETTO:-0500
TZNAME:CDT
DTSTART:20260308T080000
END:DAYLIGHT
BEGIN:STANDARD
TZOFFSETFROM:-0500
TZOFFSETTO:-0600
TZNAME:CST
DTSTART:20261101T070000
END:STANDARD
END:VTIMEZONE
BEGIN:VEVENT
DTSTART;TZID=America/Chicago:20250927T080000
DTEND;TZID=America/Chicago:20250928T170000
DTSTAMP:20260423T205808
CREATED:20250818T175502Z
LAST-MODIFIED:20250924T001805Z
UID:6130-1758960000-1759078800@stlcanoekayak.com
SUMMARY:North Fork of the White 2-day paddle
DESCRIPTION:September 27@ 8:00 am – September 28@ 5:00 pm    Free – $11.50 \nTwo\, day paddles with campground camping in-between.  On Sept 27 we will paddle from North Fork Campground to Blair Bridge (10 miles; mile marker 29.2 to 39.4).  On September 28th we’ll paddle from Hebron to Twin Bridges (6 miles; mile marker 18.7 -to 24.1). \nSaturday AM:  Meet at 8:00 at North Fork Campground to shuttle and paddle. \nSunday AM: Meet at 9:00 at Twin Bridges to shuttle and paddle. \n  \nThere are 2 camping options: \n\nNorth Fork Campground. This campground has water and vault toilets and Mark Twain National Forest : Recreation Site – North Fork Recreation Area\nTwin Bridges. This campground has showers and cabins.Twin Bridges West Plains\n\nThis trip is for beginner to intermediate skill levels and appropriate for all plastic kayaks less than 16 feet long and all canoes.   \nNorth Fork is a class I difficulty but can also have some class II sections\, depending on water level. Class II is defined as\, “Moderate difficulty with low consequences. Moving water with identifiable rapids and regular waves; clear passages exist between rocks and hazards. Minimal gradient loss. Some maneuvering is required.” \nDescription of the North Fork: \nThe spring-fed North Fork of the White River is a near-perpetual stream offering abundant opportunities for canoeing\, kayaking and slow rafting on flatwater with occasional Class I  riffles that is very well suited for just about any paddler regardless of experience. The river courses through Mark Twain National Forest in extreme southcentral Missouri\, approaching the Arkansas State Line as it flows into Norfork Lake just above its confluence with the mainstream of the White River southeast of Bull Shoals Lake. \nThe area is very scenic\, and the lower 25 miles are very popular with canoeists and kayakers in spring and summer months. Cool\, clear waters and excellent shade from the sun make the North Fork a very enjoyable place for family outings\, and the nearly 50 miles of river that normally can be paddled without having to dodge dead-fallen tree debris offers opportunities for multi-day trips for those wanting more than just a few hours on the water. \n—————————————————————————————————————————————– \nPlease check out the Club Sanctioned Trips forum for additional information as it is posted\, or to ask questions or post comments.  Club Sanctioned Trip Info & Comments – St. Louis Canoe & Kayak Club \nTip leader: Dave Haessig dghaessig@yahoo.com  314-304-7970. \nTo attend this trip/event: \n\nYou must reserve ticket for each person attending (see tickets below).\nThis provides the trip coordinator with important information for safety and communication and gives the club important information we need for reporting to ACA within 30 days of the event.\n You must fill out this waiver if you are not an ACA member (including minors without an ACA membership):  https://waiver.smartwaiver.com/e/FsaS2rycbPA6PkQUL6me47/\n\nIf you are an ACA member and have either an ACA annual waiver or SLCKC annual waiver filled out\, you do not need to sign a waiver for this trip. \nIf you are an ACA member but have not yet signed an annual waiver\, or you believe it may expire soon\, fill out this waiver: (It is visible to our club admin AND acts as an ACA annual waiver.)  https://waiver.smartwaiver.com/e/VSyMLYT6M3s3w4jDmWBhwN/
URL:https://stlcanoekayak.com/event/north-fork-of-the-white-2-day-paddle/
LOCATION:North Fork of the White Recreation Area\, Pottersville\, MO\, 65790\, United States
END:VEVENT
END:VCALENDAR