BEGIN:VCALENDAR
VERSION:2.0
PRODID:-//St. Louis Canoe &amp; Kayak Club - ECPv6.15.20//NONSGML v1.0//EN
CALSCALE:GREGORIAN
METHOD:PUBLISH
X-WR-CALNAME:St. Louis Canoe &amp; Kayak Club
X-ORIGINAL-URL:https://stlcanoekayak.com
X-WR-CALDESC:Events for St. Louis Canoe &amp; Kayak Club
REFRESH-INTERVAL;VALUE=DURATION:PT1H
X-Robots-Tag:noindex
X-PUBLISHED-TTL:PT1H
BEGIN:VTIMEZONE
TZID:America/Chicago
BEGIN:DAYLIGHT
TZOFFSETFROM:-0600
TZOFFSETTO:-0500
TZNAME:CDT
DTSTART:20240310T080000
END:DAYLIGHT
BEGIN:STANDARD
TZOFFSETFROM:-0500
TZOFFSETTO:-0600
TZNAME:CST
DTSTART:20241103T070000
END:STANDARD
BEGIN:DAYLIGHT
TZOFFSETFROM:-0600
TZOFFSETTO:-0500
TZNAME:CDT
DTSTART:20250309T080000
END:DAYLIGHT
BEGIN:STANDARD
TZOFFSETFROM:-0500
TZOFFSETTO:-0600
TZNAME:CST
DTSTART:20251102T070000
END:STANDARD
BEGIN:DAYLIGHT
TZOFFSETFROM:-0600
TZOFFSETTO:-0500
TZNAME:CDT
DTSTART:20260308T080000
END:DAYLIGHT
BEGIN:STANDARD
TZOFFSETFROM:-0500
TZOFFSETTO:-0600
TZNAME:CST
DTSTART:20261101T070000
END:STANDARD
END:VTIMEZONE
BEGIN:VEVENT
DTSTART;TZID=America/Chicago:20250920T120000
DTEND;TZID=America/Chicago:20250920T200000
DTSTAMP:20260423T221424
CREATED:20250805T020150Z
LAST-MODIFIED:20250905T020533Z
UID:5987-1758369600-1758398400@stlcanoekayak.com
SUMMARY:Mississippi Earthtones Festival
DESCRIPTION:September 20 @ 12:00 am – 10:00 pm; Alton Main Street \nOur club will again have a booth at this free & family-friendly event\, which features 100+ educational booths\, live music\, interactive art experiences and performances\, as well as great local food & beverages. The goal is to bring people to Downtown Alton to celebrate life on the Mississippi River and learn about ways that we can all be good stewards of our environment. \nThis event is in conjunction with the Great Rivers Rendezvous\, sponsored by the Mississippi River Water Trail Association. \nWe are looking for volunteers to staff our booth for 2- or 3-hour shifts until dark. It really is a lot of fun. If you can help\, please contact Randy\, our outreach coordinator\, at randynorr@gmail.com \n  \nMRWTA also needs volunteers for the Rendezvous. Many hands are needed for this large annual social paddle event held on the Mississippi River between Portage Des Sioux and Alton.  The one-day event has three starting points with an optional lock-thru. \nThe two day event starts on the Illinois River\, continues to the Mississippi River with overnight camping followed by paddling the following day on the Missouri River.  More details are included with the sign-up link below.\n\nSome of you have already signed on but please fill out the form (via the sign-up link) to tell us your assignment preferences. There’s also a link for those who have not yet signed an annual waiver with MRWTA.\nVOLUNTEER SIGN UP LINK-\nhttps://forms.gle/eU5oQ9sqGvV67PjQ7\n 
URL:https://stlcanoekayak.com/event/mississippi-earthtones-festival-2/
LOCATION:Alton Amphitheater\, Alton Ampitheater\, Alton\, IL\, 62067\, United States
END:VEVENT
END:VCALENDAR