BEGIN:VCALENDAR
VERSION:2.0
PRODID:-//St. Louis Canoe &amp; Kayak Club - ECPv6.15.20//NONSGML v1.0//EN
CALSCALE:GREGORIAN
METHOD:PUBLISH
X-WR-CALNAME:St. Louis Canoe &amp; Kayak Club
X-ORIGINAL-URL:https://stlcanoekayak.com
X-WR-CALDESC:Events for St. Louis Canoe &amp; Kayak Club
REFRESH-INTERVAL;VALUE=DURATION:PT1H
X-Robots-Tag:noindex
X-PUBLISHED-TTL:PT1H
BEGIN:VTIMEZONE
TZID:America/Chicago
BEGIN:DAYLIGHT
TZOFFSETFROM:-0600
TZOFFSETTO:-0500
TZNAME:CDT
DTSTART:20240310T080000
END:DAYLIGHT
BEGIN:STANDARD
TZOFFSETFROM:-0500
TZOFFSETTO:-0600
TZNAME:CST
DTSTART:20241103T070000
END:STANDARD
BEGIN:DAYLIGHT
TZOFFSETFROM:-0600
TZOFFSETTO:-0500
TZNAME:CDT
DTSTART:20250309T080000
END:DAYLIGHT
BEGIN:STANDARD
TZOFFSETFROM:-0500
TZOFFSETTO:-0600
TZNAME:CST
DTSTART:20251102T070000
END:STANDARD
BEGIN:DAYLIGHT
TZOFFSETFROM:-0600
TZOFFSETTO:-0500
TZNAME:CDT
DTSTART:20260308T080000
END:DAYLIGHT
BEGIN:STANDARD
TZOFFSETFROM:-0500
TZOFFSETTO:-0600
TZNAME:CST
DTSTART:20261101T070000
END:STANDARD
END:VTIMEZONE
BEGIN:VEVENT
DTSTART;TZID=America/Chicago:20250910T170000
DTEND;TZID=America/Chicago:20250910T193000
DTSTAMP:20260423T221425
CREATED:20250502T212238Z
LAST-MODIFIED:20250829T180756Z
UID:5079-1757523600-1757532600@stlcanoekayak.com
SUMMARY:D.A.S.A. Wednesday night paddle
DESCRIPTION:September 10 5:00-7:30\n\nMembers of our club can volunteer to assist the Disabled Athletes Sports Association by supporting their kayakers during their Wednesday evening Bikes and Boats program at Creve Coeur Lake. Volunteers paddle alongside their kayakers and encourage them as well as give suggestions for paddling. Some have never paddled before\, while others have some experience. Although we do not act as instructors\, we do keep a close eye on them. It is a lot of fun and so rewarding. All members are welcome to come help out. (This is not a club sponsored event).\n\n  \nThis is the last DASA paddle of the year. If you can help\, we meet at the Sailboat Cove at Creve Coeur Lake at 5:00\, or as soon thereafter you can get there. Please let Debbie Dyle know you are coming. \ndylemedebbie@gmail.com
URL:https://stlcanoekayak.com/event/d-a-s-a-wednesday-night-paddles/
LOCATION:creve coeur lake sailboat cove\, St. Louis\, MO\, 63146\, United States
END:VEVENT
END:VCALENDAR