BEGIN:VCALENDAR
VERSION:2.0
PRODID:-//St. Louis Canoe &amp; Kayak Club - ECPv6.15.20//NONSGML v1.0//EN
CALSCALE:GREGORIAN
METHOD:PUBLISH
X-ORIGINAL-URL:https://stlcanoekayak.com
X-WR-CALDESC:Events for St. Louis Canoe &amp; Kayak Club
REFRESH-INTERVAL;VALUE=DURATION:PT1H
X-Robots-Tag:noindex
X-PUBLISHED-TTL:PT1H
BEGIN:VTIMEZONE
TZID:America/Chicago
BEGIN:DAYLIGHT
TZOFFSETFROM:-0600
TZOFFSETTO:-0500
TZNAME:CDT
DTSTART:20240310T080000
END:DAYLIGHT
BEGIN:STANDARD
TZOFFSETFROM:-0500
TZOFFSETTO:-0600
TZNAME:CST
DTSTART:20241103T070000
END:STANDARD
BEGIN:DAYLIGHT
TZOFFSETFROM:-0600
TZOFFSETTO:-0500
TZNAME:CDT
DTSTART:20250309T080000
END:DAYLIGHT
BEGIN:STANDARD
TZOFFSETFROM:-0500
TZOFFSETTO:-0600
TZNAME:CST
DTSTART:20251102T070000
END:STANDARD
BEGIN:DAYLIGHT
TZOFFSETFROM:-0600
TZOFFSETTO:-0500
TZNAME:CDT
DTSTART:20260308T080000
END:DAYLIGHT
BEGIN:STANDARD
TZOFFSETFROM:-0500
TZOFFSETTO:-0600
TZNAME:CST
DTSTART:20261101T070000
END:STANDARD
END:VTIMEZONE
BEGIN:VEVENT
DTSTART;TZID=America/Chicago:20250719T093000
DTEND;TZID=America/Chicago:20250719T170000
DTSTAMP:20260424T005545
CREATED:20250703T174723Z
LAST-MODIFIED:20250717T212655Z
UID:5513-1752917400-1752944400@stlcanoekayak.com
SUMMARY:Meramec Paddle for Inflatables
DESCRIPTION:July 19 @  9:30 am – 5:00 pm    Free – $11.50 \nThis is a day paddle on the Meramec from Blue Springs to Sappington Bridge. This trip is designed for inflatables. You can join us in a hardshell kayak but please be aware that inflatables go a bit slower.  If you would like to try an inflatable\, let me know. I have extras. I also have a tandem or two if you want to bring along a child. \nWe will be meeting at the Sapping Bridge access in Bourbon\, MO at 9:30 am. \nDirections:   \n          Follow I-44 W to Missouri D (exit 225) in Sullivan.  (50 miles) \n          Make a left on Sappington Bridge Road. (10 miles) This will lead you to the access. If you cross the river\, you                          have gone too far. \n\n\n           Address:  2950-3198 Sappington Bridge Rd\, Bourbon\, MO 65441\n\n\n\n\n  \nI will be camping at Blue Springs Ranch on Friday and Saturday nights if you would like to join me. I have site 233. There is a pool there\, so it should be quite relaxing on Sunday. Book Online | Blue Springs Ranch \nWe will post trip updates on the Club-Sanctioned Trip Into & Comments section of our forums. You can also use this forum if you want to chat about who is going\, ask questions\, arrange carpools\, or check last minute updates. \nTip leader: Debbie Dyle dylemedebbie@gmail.com \n—————————————————————————————————————————————— \nTo attend this trip: \n\nYou must reserve a ticket for each person attending (see tickets below).\nYou must fill out a waiver.                                                                                                                                              – non-ACA members: (minors without an ACA membership must also have this waiver filled out):                                     https://waiver.smartwaiver.com/e/fw3kfvZ3a3epXTPwuA2v9f/                                                 – ACA members who have not yet signed an annual waiver\, or you believe it may expire soon\, fill out this                          waiver: (It is visible to our club admin AND acts as an ACA annual waiver.)                                                                    https://waiver.smartwaiver.com/e/VSyMLYT6M3s3w4jDmWBhwN/\n\nIf you are an ACA member and have either an ACA annual waiver or SLCKC annual waiver filled out\, you do not need to sign a waiver for this trip. \n   If you do not have a waiver signed and a ticket 3 days prior to the event\, you will not be able to attend.
URL:https://stlcanoekayak.com/event/meramec-paddle-for-inflatables/
LOCATION:Sappington Bridge access\, 2950-3198 Sappington Bridge Rd\, Bourbon\, MO\, 65441\, United States
END:VEVENT
END:VCALENDAR