BEGIN:VCALENDAR
VERSION:2.0
PRODID:-//St. Louis Canoe &amp; Kayak Club - ECPv6.15.20//NONSGML v1.0//EN
CALSCALE:GREGORIAN
METHOD:PUBLISH
X-ORIGINAL-URL:https://stlcanoekayak.com
X-WR-CALDESC:Events for St. Louis Canoe &amp; Kayak Club
REFRESH-INTERVAL;VALUE=DURATION:PT1H
X-Robots-Tag:noindex
X-PUBLISHED-TTL:PT1H
BEGIN:VTIMEZONE
TZID:America/Chicago
BEGIN:DAYLIGHT
TZOFFSETFROM:-0600
TZOFFSETTO:-0500
TZNAME:CDT
DTSTART:20240310T080000
END:DAYLIGHT
BEGIN:STANDARD
TZOFFSETFROM:-0500
TZOFFSETTO:-0600
TZNAME:CST
DTSTART:20241103T070000
END:STANDARD
BEGIN:DAYLIGHT
TZOFFSETFROM:-0600
TZOFFSETTO:-0500
TZNAME:CDT
DTSTART:20250309T080000
END:DAYLIGHT
BEGIN:STANDARD
TZOFFSETFROM:-0500
TZOFFSETTO:-0600
TZNAME:CST
DTSTART:20251102T070000
END:STANDARD
BEGIN:DAYLIGHT
TZOFFSETFROM:-0600
TZOFFSETTO:-0500
TZNAME:CDT
DTSTART:20260308T080000
END:DAYLIGHT
BEGIN:STANDARD
TZOFFSETFROM:-0500
TZOFFSETTO:-0600
TZNAME:CST
DTSTART:20261101T070000
END:STANDARD
END:VTIMEZONE
BEGIN:VEVENT
DTSTART;TZID=America/Chicago:20250622T090000
DTEND;TZID=America/Chicago:20250622T170000
DTSTAMP:20260424T021654
CREATED:20250429T011051Z
LAST-MODIFIED:20250429T011051Z
UID:5026-1750582800-1750611600@stlcanoekayak.com
SUMMARY:Kids and Family Paddle on Big River
DESCRIPTION:June 22@ 9:00 pm – 5:00 pm    Free – $11.50 \nThis is a trip designed specifically for kids and families.  We will Paddle from Mammoth Access to the Merrell Horse Access\, which is 5 miles\, with plenty of stops swimming and playing.  Bring your favorite water toys\, squirt guns and super soakers to partake in the fun.  We will meet at the Mammoth Access at 9:00 am to shuttle and paddle the river.  This trip is for all paddler skills levels and all boats are welcome.  You will need to bring a lunch and drinks. \nTrip Leader Dave Haessig 314-304-7970 dghaessig@yahoo.com \nDirections MO 21 south and turn right onto highway H. Go about 4 miles and turn left on Mammoth Rd. \nTo attend this trip/event: \n\nYou must reserve ticket for each person attending (see tickets below).\nThis provides the trip coordinator with important information for safety and communication and gives the club important information we need for reporting to ACA within 30 days of the event.\n You must fill out THIS waiver if you ARE an ACA member (even if you already have an annual waiver signed with ACA).  This is a NEW waiver our club will be using for the rest of the year\, and you only need to sign this waiver once. (Where it says\, “Name of Event”\, put “SLCKC annual waiver.”)  https://waiver.smartwaiver.com/e/VSyMLYT6M3s3w4jDmWBhwN/  \nIf you or your attending child are not an ACA member\, fill out this waiver. It includes options for adults and minors: https://waiver.smartwaiver.com/e/84zgNP923CGQUXmtuXnwVG/\n\nTo chat about this event: If you want to chat about who is going\, ask questions\, arrange carpools\, or check last minute updates\, please see the relevant post on the Club-Sanctioned Trip Into & Comments section of our forums: Club Sanctioned Trip Info & Comments – St. Louis Canoe & Kayak Club (stlcanoekayak.com)
URL:https://stlcanoekayak.com/event/kids-and-family-paddle-on-big-river/
LOCATION:Mammoth Access Big River\, De Soto\, MO\, 63020\, United States
END:VEVENT
END:VCALENDAR