BEGIN:VCALENDAR
VERSION:2.0
PRODID:-//St. Louis Canoe &amp; Kayak Club - ECPv6.15.20//NONSGML v1.0//EN
CALSCALE:GREGORIAN
METHOD:PUBLISH
X-ORIGINAL-URL:https://stlcanoekayak.com
X-WR-CALDESC:Events for St. Louis Canoe &amp; Kayak Club
REFRESH-INTERVAL;VALUE=DURATION:PT1H
X-Robots-Tag:noindex
X-PUBLISHED-TTL:PT1H
BEGIN:VTIMEZONE
TZID:America/Chicago
BEGIN:DAYLIGHT
TZOFFSETFROM:-0600
TZOFFSETTO:-0500
TZNAME:CDT
DTSTART:20240310T080000
END:DAYLIGHT
BEGIN:STANDARD
TZOFFSETFROM:-0500
TZOFFSETTO:-0600
TZNAME:CST
DTSTART:20241103T070000
END:STANDARD
BEGIN:DAYLIGHT
TZOFFSETFROM:-0600
TZOFFSETTO:-0500
TZNAME:CDT
DTSTART:20250309T080000
END:DAYLIGHT
BEGIN:STANDARD
TZOFFSETFROM:-0500
TZOFFSETTO:-0600
TZNAME:CST
DTSTART:20251102T070000
END:STANDARD
BEGIN:DAYLIGHT
TZOFFSETFROM:-0600
TZOFFSETTO:-0500
TZNAME:CDT
DTSTART:20260308T080000
END:DAYLIGHT
BEGIN:STANDARD
TZOFFSETFROM:-0500
TZOFFSETTO:-0600
TZNAME:CST
DTSTART:20261101T070000
END:STANDARD
END:VTIMEZONE
BEGIN:VEVENT
DTSTART;TZID=America/Chicago:20250607T100000
DTEND;TZID=America/Chicago:20250608T170000
DTSTAMP:20260424T021654
CREATED:20250505T203748Z
LAST-MODIFIED:20250605T174009Z
UID:5101-1749290400-1749402000@stlcanoekayak.com
SUMMARY:Cancelled: Carlyle Lake Weekend Paddle
DESCRIPTION:June 7@ 10:00 am – June 8@ 5:00 pm    Free – $11.50 \nWe will be meeting at the boat ramp at Eldon Hazlet State Recreation Area on Saturday\, June 7th at 10am. We will be paddling both Saturday and Sunday.   This trip is suitable for both sea kayaks and shorter boats and all skill levels.   Those in non-sea kayak boats will be exploring the lake shore and observing wildlife. \n\n\nPeople can camp at Eldon Hazlet State Park\, coming in on Friday night or Saturday morning but you’ll have to make reservations at Camping at Eldon Hazlet You can also drive in from St Louis for the day\, either or both Saturday and Sunday.  Exact details about camping and the paddles will be discussed in the forum as people sign up. \n\n\nExtensive information on Carlyle Lake including all the campgrounds (including reservation links) is available at the Carlyle Lake Corps of Engineers site: Carlyle Lake\, Illinois – Recreation.gov\n\n\n\n\n\n\n\nTrip leader: Eileen Lenkman  eileen.lenkman@sbcglobal.net \nTo attend this trip/event: \n\nYou must reserve ticket for each person attending (see tickets below).\nThis provides the trip coordinator with important information for safety and communication and gives the club important information we need for reporting to ACA within 30 days of the event.\n You must fill out THIS waiver if you are an ACA member (even if you already have an annual waiver signed with ACA).  This is a NEW waiver our club will be using for the rest of the year\, and you only need to sign this waiver once this calendar year for all events.  (Where it says\, “Name of Event”\, put “annual waiver.”) https://waiver.smartwaiver.com/e/VSyMLYT6M3s3w4jDmWBhwN/  \nIf you or your attending child are not an ACA member\, fill out this waiver. It includes options for adults and minors: https://waiver.smartwaiver.com/e/7W5H4LkeVbihKUfMjz6Srb/\n\nTo chat about this event: If you want to chat about who is going\, ask questions\, arrange carpools\, or check last minute updates\, please see the relevant post on the Club-Sanctioned Trip Into & Comments section of our forums: Club Sanctioned Trip Info & Comments – St. Louis Canoe & Kayak Club (stlcanoekayak.com) \n 
URL:https://stlcanoekayak.com/event/rescheduled-carlyle-lake-weekend-paddle/
LOCATION:Eldon Hazlet State Park boat ramp\, Carlyle\, IL\, 62231\, United States
END:VEVENT
END:VCALENDAR