BEGIN:VCALENDAR
VERSION:2.0
PRODID:-//St. Louis Canoe &amp; Kayak Club - ECPv6.15.20//NONSGML v1.0//EN
CALSCALE:GREGORIAN
METHOD:PUBLISH
X-WR-CALNAME:St. Louis Canoe &amp; Kayak Club
X-ORIGINAL-URL:https://stlcanoekayak.com
X-WR-CALDESC:Events for St. Louis Canoe &amp; Kayak Club
REFRESH-INTERVAL;VALUE=DURATION:PT1H
X-Robots-Tag:noindex
X-PUBLISHED-TTL:PT1H
BEGIN:VTIMEZONE
TZID:America/Chicago
BEGIN:DAYLIGHT
TZOFFSETFROM:-0600
TZOFFSETTO:-0500
TZNAME:CDT
DTSTART:20240310T080000
END:DAYLIGHT
BEGIN:STANDARD
TZOFFSETFROM:-0500
TZOFFSETTO:-0600
TZNAME:CST
DTSTART:20241103T070000
END:STANDARD
BEGIN:DAYLIGHT
TZOFFSETFROM:-0600
TZOFFSETTO:-0500
TZNAME:CDT
DTSTART:20250309T080000
END:DAYLIGHT
BEGIN:STANDARD
TZOFFSETFROM:-0500
TZOFFSETTO:-0600
TZNAME:CST
DTSTART:20251102T070000
END:STANDARD
BEGIN:DAYLIGHT
TZOFFSETFROM:-0600
TZOFFSETTO:-0500
TZNAME:CDT
DTSTART:20260308T080000
END:DAYLIGHT
BEGIN:STANDARD
TZOFFSETFROM:-0500
TZOFFSETTO:-0600
TZNAME:CST
DTSTART:20261101T070000
END:STANDARD
END:VTIMEZONE
BEGIN:VEVENT
DTSTART;TZID=America/Chicago:20250503T090000
DTEND;TZID=America/Chicago:20250503T170000
DTSTAMP:20260424T034236
CREATED:20250318T201440Z
LAST-MODIFIED:20250429T011617Z
UID:4565-1746262800-1746291600@stlcanoekayak.com
SUMMARY:Little Piney Creek Trip
DESCRIPTION:May 3 @ 9:00 am    Free – $11.50 \nThe Little Piney is a tributary of the Gasconade River in south central Missouri. It flows from the Lane Sprints through the town of Newburg to the Gasconade River. The Little Piney is more creek than a river and has excellent fishing and some technical paddling. It doesn’t often get clear of debris\, so there are a lot of fallen trees that can cause jams. That is where the technical part comes in. If you are in a kayak\, you may be able to wriggle around most of them. In a canoe\, not so much. It also takes some precise turning to get around the jams\, so if you are a novice\, you will either be portaging or falling out of your boat a lot. \nWe will meet at the Newburg access at 9:00 am\, then shuttle up to the put in. This will be a 10-mile paddle. Appropriate boats are plastic boats under 15 feet. This trip is appropriate for all paddlers. There is a possibility of log jams that we may have to portage around. You will need to bring a lunch and liquids to drink. \nTrip Leader Dave Haessig  314-304-7970 dghaessig@yahoo.com \nDirection I-44 west and exit 179 highway T south to Newburg access where the highway crosses the Little Piney. It is about an hour and 45 minutes from mid St. Louis. \n\nTo attend this trip/event:\n\nYou must reserve ticket for each person attending (see tickets below).\nThis provides the trip coordinator with important information for safety and communication and gives the club important information we need for reporting to ACA within 30 days of the event.\n You must fill out THIS waiver if you ARE an ACA member (even if you already have an annual waiver signed with ACA).  This is a NEW waiver our club will be using for the rest of the year\, and you only need to sign this waiver once. (Where it says\, “Name of Event”\, put “SLCKC annual waiver.”)  https://waiver.smartwaiver.com/e/VSyMLYT6M3s3w4jDmWBhwN/  \nIf you or your attending child are not an ACA member\, fill out this waiver. It includes options for adults and minors:\n\n https://waiver.smartwaiver.com/e/cacBcijaVgHMfpfjRKHXMo/\n\nTo chat about this event: If you want to chat about who is going\, ask questions\, arrange carpools\, or check last minute updates\, please see the relevant post on the Club-Sanctioned Trip Into & Comments section of our forums: Club Sanctioned Trip Info & Comments – St. Louis Canoe & Kayak Club (stlcanoekayak.com) \nWe will also be posting on the Club Sanctioned Trips forum the names of people who have signed up for the trip.
URL:https://stlcanoekayak.com/event/little-piney-creek-trip/
LOCATION:Newburg Access\, Newberg\, MO\, United States
END:VEVENT
END:VCALENDAR