BEGIN:VCALENDAR
VERSION:2.0
PRODID:-//St. Louis Canoe &amp; Kayak Club - ECPv6.15.20//NONSGML v1.0//EN
CALSCALE:GREGORIAN
METHOD:PUBLISH
X-WR-CALNAME:St. Louis Canoe &amp; Kayak Club
X-ORIGINAL-URL:https://stlcanoekayak.com
X-WR-CALDESC:Events for St. Louis Canoe &amp; Kayak Club
REFRESH-INTERVAL;VALUE=DURATION:PT1H
X-Robots-Tag:noindex
X-PUBLISHED-TTL:PT1H
BEGIN:VTIMEZONE
TZID:America/Chicago
BEGIN:DAYLIGHT
TZOFFSETFROM:-0600
TZOFFSETTO:-0500
TZNAME:CDT
DTSTART:20240310T080000
END:DAYLIGHT
BEGIN:STANDARD
TZOFFSETFROM:-0500
TZOFFSETTO:-0600
TZNAME:CST
DTSTART:20241103T070000
END:STANDARD
BEGIN:DAYLIGHT
TZOFFSETFROM:-0600
TZOFFSETTO:-0500
TZNAME:CDT
DTSTART:20250309T080000
END:DAYLIGHT
BEGIN:STANDARD
TZOFFSETFROM:-0500
TZOFFSETTO:-0600
TZNAME:CST
DTSTART:20251102T070000
END:STANDARD
BEGIN:DAYLIGHT
TZOFFSETFROM:-0600
TZOFFSETTO:-0500
TZNAME:CDT
DTSTART:20260308T080000
END:DAYLIGHT
BEGIN:STANDARD
TZOFFSETFROM:-0500
TZOFFSETTO:-0600
TZNAME:CST
DTSTART:20261101T070000
END:STANDARD
END:VTIMEZONE
BEGIN:VEVENT
DTSTART;TZID=America/Chicago:20250328T170000
DTEND;TZID=America/Chicago:20250330T170000
DTSTAMP:20260424T060926
CREATED:20250310T213206Z
LAST-MODIFIED:20250310T213502Z
UID:4519-1743181200-1743354000@stlcanoekayak.com
SUMMARY:Club table at Alpine Shop Spring Showcase
DESCRIPTION:Come help us staff our table at the Alpine Shop Spring Showcase. If you can help\, please email Randy\, our outreach chairperson:  randynorr@gmail.com \nRandy will also be doing a presentation on Sunday at noon on the best places to paddle in St. Louis.
URL:https://stlcanoekayak.com/event/club-table-at-alpine-shop-spring-showcase/
LOCATION:Alpine Shop
END:VEVENT
END:VCALENDAR