BEGIN:VCALENDAR
VERSION:2.0
PRODID:-//St. Louis Canoe &amp; Kayak Club - ECPv6.15.20//NONSGML v1.0//EN
CALSCALE:GREGORIAN
METHOD:PUBLISH
X-WR-CALNAME:St. Louis Canoe &amp; Kayak Club
X-ORIGINAL-URL:https://stlcanoekayak.com
X-WR-CALDESC:Events for St. Louis Canoe &amp; Kayak Club
REFRESH-INTERVAL;VALUE=DURATION:PT1H
X-Robots-Tag:noindex
X-PUBLISHED-TTL:PT1H
BEGIN:VTIMEZONE
TZID:America/Chicago
BEGIN:DAYLIGHT
TZOFFSETFROM:-0600
TZOFFSETTO:-0500
TZNAME:CDT
DTSTART:20230312T080000
END:DAYLIGHT
BEGIN:STANDARD
TZOFFSETFROM:-0500
TZOFFSETTO:-0600
TZNAME:CST
DTSTART:20231105T070000
END:STANDARD
BEGIN:DAYLIGHT
TZOFFSETFROM:-0600
TZOFFSETTO:-0500
TZNAME:CDT
DTSTART:20240310T080000
END:DAYLIGHT
BEGIN:STANDARD
TZOFFSETFROM:-0500
TZOFFSETTO:-0600
TZNAME:CST
DTSTART:20241103T070000
END:STANDARD
BEGIN:DAYLIGHT
TZOFFSETFROM:-0600
TZOFFSETTO:-0500
TZNAME:CDT
DTSTART:20250309T080000
END:DAYLIGHT
BEGIN:STANDARD
TZOFFSETFROM:-0500
TZOFFSETTO:-0600
TZNAME:CST
DTSTART:20251102T070000
END:STANDARD
END:VTIMEZONE
BEGIN:VEVENT
DTSTART;VALUE=DATE:20241122
DTEND;VALUE=DATE:20241125
DTSTAMP:20260424T112255
CREATED:20240924T011413Z
LAST-MODIFIED:20240929T184651Z
UID:3672-1732233600-1732492799@stlcanoekayak.com
SUMMARY:2024 Gateway Outdoor Expo
DESCRIPTION:Our club is hosting a booth with Team River Runner at the St. Charles Gateway Outdoor Expo Nov. 22-24. We need all hands on deck to staff our booth! This will be another great opportunity to let paddlers know about our club. And the Expo is really interesting…so much to see. Please use the link below to sign up for a volunteer timeslot: \n  \nWe’re using SignUp (the leading online SignUp and reminder tool) to organize our upcoming SignUps for the Gateway Outdoor Expo \nHere’s how it works in 3 easy steps: \n1) Click this link to see our SignUp on SignUp.com: https://signup.com/go/ZTptAbq \n2) Review the options listed and choose the spot(s) you like. \n3) Sign up! It’s Easy – you will NOT need to register an account or keep a password on SignUp. \nNote: SignUp does not share your email address with anyone. If you prefer not to use your email address\, please contact me and I can sign you up manually.
URL:https://stlcanoekayak.com/event/gateway-outdoor-expo/
LOCATION:St. Charles Convention Center\, 1 Convention Center Blvd.\, St. Charles\, MO\, 63303
END:VEVENT
END:VCALENDAR