BEGIN:VCALENDAR
VERSION:2.0
PRODID:-//St. Louis Canoe &amp; Kayak Club - ECPv6.15.20//NONSGML v1.0//EN
CALSCALE:GREGORIAN
METHOD:PUBLISH
X-ORIGINAL-URL:https://stlcanoekayak.com
X-WR-CALDESC:Events for St. Louis Canoe &amp; Kayak Club
REFRESH-INTERVAL;VALUE=DURATION:PT1H
X-Robots-Tag:noindex
X-PUBLISHED-TTL:PT1H
BEGIN:VTIMEZONE
TZID:America/Chicago
BEGIN:DAYLIGHT
TZOFFSETFROM:-0600
TZOFFSETTO:-0500
TZNAME:CDT
DTSTART:20230312T080000
END:DAYLIGHT
BEGIN:STANDARD
TZOFFSETFROM:-0500
TZOFFSETTO:-0600
TZNAME:CST
DTSTART:20231105T070000
END:STANDARD
BEGIN:DAYLIGHT
TZOFFSETFROM:-0600
TZOFFSETTO:-0500
TZNAME:CDT
DTSTART:20240310T080000
END:DAYLIGHT
BEGIN:STANDARD
TZOFFSETFROM:-0500
TZOFFSETTO:-0600
TZNAME:CST
DTSTART:20241103T070000
END:STANDARD
BEGIN:DAYLIGHT
TZOFFSETFROM:-0600
TZOFFSETTO:-0500
TZNAME:CDT
DTSTART:20250309T080000
END:DAYLIGHT
BEGIN:STANDARD
TZOFFSETFROM:-0500
TZOFFSETTO:-0600
TZNAME:CST
DTSTART:20251102T070000
END:STANDARD
END:VTIMEZONE
BEGIN:VEVENT
DTSTART;TZID=America/Chicago:20241023T180000
DTEND;TZID=America/Chicago:20241023T200000
DTSTAMP:20260424T122635
CREATED:20241002T164347Z
LAST-MODIFIED:20241006T012254Z
UID:3766-1729706400-1729713600@stlcanoekayak.com
SUMMARY:Trip Leader Training
DESCRIPTION:October 23 @ 6:00– 8:00 pm    Free  \nWe are excited to offer a trip leader training to anyone who is interested in learning more about how to lead a trip. We are a paddling club\, and we need more trips. Which means…we need more members who are willing to lead trips.  So\, come and hear about how simple we have made the process\, what to consider when leading a trip\, and basic first aid.  The board and Eleanor Pardini will be taking care of all the administrative tasks involved in setting up a trip\, so it really is not difficult. And we have laid out the process in a step-by-step format. \nYou are not making any commitments by coming. However\, we would like all potential trip leaders to attend this event. \nWe will provide pizza and drinks. \nTo attend this event\, please get a ticket (below) so we know how many participants we will have.
URL:https://stlcanoekayak.com/event/trip-leader-training/
LOCATION:Shrewsbury Community Center\, meeting room 1\, 5200 Shrewsbury Ave\,\, Shrewsbury\, MO\, 63119\, United States
ORGANIZER;CN="St Louis Canoe & Kayak Club":MAILTO:admin@stlcanoekayak.com
END:VEVENT
END:VCALENDAR