BEGIN:VCALENDAR
VERSION:2.0
PRODID:-//St. Louis Canoe &amp; Kayak Club - ECPv6.15.20//NONSGML v1.0//EN
CALSCALE:GREGORIAN
METHOD:PUBLISH
X-WR-CALNAME:St. Louis Canoe &amp; Kayak Club
X-ORIGINAL-URL:https://stlcanoekayak.com
X-WR-CALDESC:Events for St. Louis Canoe &amp; Kayak Club
REFRESH-INTERVAL;VALUE=DURATION:PT1H
X-Robots-Tag:noindex
X-PUBLISHED-TTL:PT1H
BEGIN:VTIMEZONE
TZID:America/Chicago
BEGIN:DAYLIGHT
TZOFFSETFROM:-0600
TZOFFSETTO:-0500
TZNAME:CDT
DTSTART:20230312T080000
END:DAYLIGHT
BEGIN:STANDARD
TZOFFSETFROM:-0500
TZOFFSETTO:-0600
TZNAME:CST
DTSTART:20231105T070000
END:STANDARD
BEGIN:DAYLIGHT
TZOFFSETFROM:-0600
TZOFFSETTO:-0500
TZNAME:CDT
DTSTART:20240310T080000
END:DAYLIGHT
BEGIN:STANDARD
TZOFFSETFROM:-0500
TZOFFSETTO:-0600
TZNAME:CST
DTSTART:20241103T070000
END:STANDARD
BEGIN:DAYLIGHT
TZOFFSETFROM:-0600
TZOFFSETTO:-0500
TZNAME:CDT
DTSTART:20250309T080000
END:DAYLIGHT
BEGIN:STANDARD
TZOFFSETFROM:-0500
TZOFFSETTO:-0600
TZNAME:CST
DTSTART:20251102T070000
END:STANDARD
END:VTIMEZONE
BEGIN:VEVENT
DTSTART;TZID=America/Chicago:20241012T100000
DTEND;TZID=America/Chicago:20241012T160000
DTSTAMP:20260424T122427
CREATED:20240925T154923Z
LAST-MODIFIED:20241011T153939Z
UID:3686-1728727200-1728748800@stlcanoekayak.com
SUMMARY:ACA Club Trip: Time to Play in Boats
DESCRIPTION:October 12 @ 10:00 am – 4:00 pm    Free – $11.50 \nThis will be a fun day of playing in boats. If you have a great boat and you are willing to let other people try it out\, bring it.  Do you have a stand-up paddleboard with a rowing set-up you can bring?  Maybe a pedal boat or a surf ski?  Would you like to show off your gorgeous hand-crafted masterpiece?  Perhaps you have a boat that looked like a good idea at the time\, but you’d like to warn others about.  Whitewater\, big river\, plastic\, dragon\, SOT\, fiberglass\, ducky\, tandem\, cheap\, racing\, canoe\, fishing… you get the idea.  All are welcome.  If you do not yet have a boat\, this is the place for you to find out what fits you and which details are important to you. \nBring your lunch and all the stuff you normally bring for a day on the river.  Closed toed shoes recommended. \nBonfire to follow at Joan and Ron Twillman’s clubhouse.  Hotdogs\, chips\, marshmallows\, and everything in the refrigerator at the end of the summer will be provided.  Bring a “covered dish” and anything else you would like. House has a microwave\, electric skillet\, small refrigerator.  Running water is not potable. But there is indoor plumbing!  Anyone have a blow log? \nYou can join us for the bonfire even if you don’t paddle with us earlier. \nTrip leader: Joan Twillman\, joantwillman@gmail.com \nTo attend this trip/event: \n\n\nYou must reserve ticket for each person attending (see tickets below).\nThis provides the trip coordinator with important information for safety and communication and gives the club important information we need for reporting to ACA within 30 days of the event.\n\nYou must fill out an event-specific waiver. This waiver link includes options for ACA members and non-members\, as well as adults and minors:  https://waiver.smartwaiver.com/e/VQhuvAST2cKXBQy8TqrTDL/\n\n\nTo chat about this event: If you want to chat about who is going\, ask questions\, arrange carpools\, or check last minute updates\, please see the relevant post on the Club-Sanctioned Trip Into & Comments section of our forums: https://stlcanoekayak.com/forums/
URL:https://stlcanoekayak.com/event/time-to-play-in-boats/
LOCATION:Hideaway Harbor Park shore\, 1550 Hideaway Harbor Dr\,\, Portage Des Sioux\, MO\, 63373
ORGANIZER;CN="St Louis Canoe & Kayak Club":MAILTO:admin@stlcanoekayak.com
END:VEVENT
END:VCALENDAR