BEGIN:VCALENDAR
VERSION:2.0
PRODID:-//St. Louis Canoe &amp; Kayak Club - ECPv6.15.20//NONSGML v1.0//EN
CALSCALE:GREGORIAN
METHOD:PUBLISH
X-ORIGINAL-URL:https://stlcanoekayak.com
X-WR-CALDESC:Events for St. Louis Canoe &amp; Kayak Club
REFRESH-INTERVAL;VALUE=DURATION:PT1H
X-Robots-Tag:noindex
X-PUBLISHED-TTL:PT1H
BEGIN:VTIMEZONE
TZID:America/Chicago
BEGIN:DAYLIGHT
TZOFFSETFROM:-0600
TZOFFSETTO:-0500
TZNAME:CDT
DTSTART:20230312T080000
END:DAYLIGHT
BEGIN:STANDARD
TZOFFSETFROM:-0500
TZOFFSETTO:-0600
TZNAME:CST
DTSTART:20231105T070000
END:STANDARD
BEGIN:DAYLIGHT
TZOFFSETFROM:-0600
TZOFFSETTO:-0500
TZNAME:CDT
DTSTART:20240310T080000
END:DAYLIGHT
BEGIN:STANDARD
TZOFFSETFROM:-0500
TZOFFSETTO:-0600
TZNAME:CST
DTSTART:20241103T070000
END:STANDARD
BEGIN:DAYLIGHT
TZOFFSETFROM:-0600
TZOFFSETTO:-0500
TZNAME:CDT
DTSTART:20250309T080000
END:DAYLIGHT
BEGIN:STANDARD
TZOFFSETFROM:-0500
TZOFFSETTO:-0600
TZNAME:CST
DTSTART:20251102T070000
END:STANDARD
END:VTIMEZONE
BEGIN:VEVENT
DTSTART;TZID=America/Chicago:20241003T183000
DTEND;TZID=America/Chicago:20241003T200000
DTSTAMP:20260424T122914
CREATED:20240216T080019Z
LAST-MODIFIED:20240930T013858Z
UID:2146-1727980200-1727985600@stlcanoekayak.com
SUMMARY:Monthly Club Meeting: Board Elections; Winterizing your boat & gear; quick repairs.
DESCRIPTION:Annual election of board members. \nPerry Whitaker will have a presentation on winterizing your boat and gear\, as well as kayak repairs you can make on your own. \n\nThe St. Louis Canoe & Kayak Club holds an open monthly meeting on the first Thursday of every month\, with some exceptions: we are usually off in July\, we often hold a picnic in September\, and we hold a holiday party in December. Meetings are open to ALL\, whether you are a member\, joining us after a break\, or checking us out for the first time! See events calendar for upcoming meetings. \n\n\n\nMeetings are held in the second floor meeting room at: Shrewsbury City Center\, 5200 Shrewsbury Ave\, St. Louis\, MO 63119. The room is open at 6:30pm for socializing and the meeting begins at 7pm. If inclement weather or other circumstances prevent in-person meeting\, we will send out an email to members and hold the meeting via Zoom. \n\n\n\nMeetings can be accessed virtually by Zoom: https://us06web.zoom.us/j/82042351004?pwd=WDR6b0tCWld4cGVTcHZxL08vd1FGZz09 \n 
URL:https://stlcanoekayak.com/event/monthly-club-meeting-winterizing-your-boat-gear/
LOCATION:Shrewsbury Community Center\, 5200 Shrewsbury Ave.\, St. Louis\, MO\, 63119\, United States
END:VEVENT
END:VCALENDAR